BEGIN:VCALENDAR
VERSION:2.0
PRODID:-//The Crafty Nest DIY - ECPv5.8.1//NONSGML v1.0//EN
CALSCALE:GREGORIAN
METHOD:PUBLISH
X-WR-CALNAME:The Crafty Nest DIY
X-ORIGINAL-URL:https://www.thecraftynestdiy.com
X-WR-CALDESC:Events for The Crafty Nest DIY
BEGIN:VTIMEZONE
TZID:UTC
BEGIN:STANDARD
TZOFFSETFROM:+0000
TZOFFSETTO:+0000
TZNAME:UTC
DTSTART:20230101T000000
END:STANDARD
END:VTIMEZONE
BEGIN:VEVENT
DTSTART;TZID=UTC:20230309T180000
DTEND;TZID=UTC:20230309T203000
DTSTAMP:20260421T155829
CREATED:20230127T165217Z
LAST-MODIFIED:20230127T165217Z
UID:9700-1678384800-1678393800@www.thecraftynestdiy.com
SUMMARY:Reserved for Bulldogs Fundraiser
DESCRIPTION:OPEN TO THE PUBLIC \nJoin us at The Crafty Nest for a fun night of crafting and fundraising for your Bulldogs! \n$5.00 from each Ticket Sold will go right back to the Bulldogs plus and additional 15-20% of the event total will be donated to the Bulldogs from the Crafty Nest (depending on final ticket count) \nAt this event you can choose between one of the following: \n1) Circular Tray or Lazy Susan – $60.00 \nDress up your dinner table with this personalized lazy susan. The lazy susan measures 18” around.  \nThe custom tray is a rustic piece that is charming and functional\, both pieces can be stained in your color of choice. \n2) Sports Picture Frame – $40.00 \nTime to do something with those sports team photos! Change out the photos each season! \nOnly have an 8×10 Memory Mate? Not a problem\, we will adjust the layout to fit. We will take out the Bulldogs logo to fit the mate. \nChoose between Bulldogs\, Northbridge or Uxbridge logo and choose their sports icons during checkout. \nOnly have an 8×10 Memory Mate? Not a problem\, we will adjust the layout to fit. We will take out the school logo to fit the mate. \n3) Farmhouse Clock – $75.00 \nGive your room a statement piece with one of our most popular items at The Nest! This 23.5” clock can be made with any customized color\, and can be personalized upon request. \nDon’t forget that all of these items can be stained and painted according to your decor style and taste!  \nNot crafty? Not a problem! We will guide you step by step and provide ALL of the materials needed.  \nLooking forward to crafting with you!!! Don’t forget it’s BYOB!!!
URL:https://www.thecraftynestdiy.com/event/reserved-for-bulldogs-fundraiser/
LOCATION:The Crafty Nest (Whitinsville)\, 116 Church St\, Whitinsville\, MA\, 01588\, United States
CATEGORIES:Public Night
ATTACH;FMTTYPE=image/jpeg:https://www.thecraftynestdiy.com/wp-content/uploads/2023/01/Bulldogs-Fundraiser-Flyer.jpg
END:VEVENT
END:VCALENDAR