BEGIN:VCALENDAR
VERSION:2.0
PRODID:-//The Crafty Nest DIY - ECPv5.8.1//NONSGML v1.0//EN
CALSCALE:GREGORIAN
METHOD:PUBLISH
X-WR-CALNAME:The Crafty Nest DIY
X-ORIGINAL-URL:https://www.thecraftynestdiy.com
X-WR-CALDESC:Events for The Crafty Nest DIY
BEGIN:VTIMEZONE
TZID:UTC
BEGIN:STANDARD
TZOFFSETFROM:+0000
TZOFFSETTO:+0000
TZNAME:UTC
DTSTART:20230101T000000
END:STANDARD
END:VTIMEZONE
BEGIN:VEVENT
DTSTART;TZID=UTC:20230315T183000
DTEND;TZID=UTC:20230315T210000
DTSTAMP:20260422T000306
CREATED:20230130T201924Z
LAST-MODIFIED:20230308T212435Z
UID:9733-1678905000-1678914000@www.thecraftynestdiy.com
SUMMARY:Public Night at The Crafty Nest
DESCRIPTION:Join us for a Public Night on March 15th.  \n1) Circular Tray or Lazy Susan – $55.00 \nDress up your dinner table with this personalized piece. The lazy susan/tray measures 18” diameter. The custom tray/lazy susan is a rustic piece that is charming and functional\, both pieces can be stained/painted in your color of choice. \n2)Set of H.O.M.E. Wooden Blocks – $48.00 \nIncludes six 5.5” wooden blocks (H\, M\, E blocks plus additional double-sided seasonal blocks of your choice). This sends you home with 4 seasonal designs to change out throughout the year. If you’d to purchase extra blocks during checkout you may. Each block allows you two additional designs. \nExtra Blocks – $5.00/piece \n3) Book Holder Stand – $45.00 \nHave you ever been in your book nook when the phone or doorbell rings and you are in a hurry to do SOMETHING with your book? Or just so tired you just want to drop your book and close your eyes? You will never dog ear pages or look for missing bookmarks again! Just set your book down on the display stand and know\, your book is waiting for you right where you left off. The center of the display is a perfect nightstand organizer for your glasses\, a phone cubby\, or a home for your favorite old bookmark. \n**Choose a fun design at checkout to personalize your Book Holder \n4)Set of Three Tags – $45.00.00 Single Sided or $55.00.00 Double Sided \nThese rustic hanging tags can be single sided or double sided and are a perfect way to celebrate the seasons with your decor. Choices include: Luck\, Easter\, Beach\, Love\, or Grow themes. Tags are also available in a red\, white and blue\, patriotic theme. Large tag measures 16” x 8”; small tag measures 12 x 8”. \n\nDon’t forget that all of these items can be stained and painted according to your decor style and taste!  \nNot crafty? Not a problem! We will guide you step by step and provide ALL of the materials needed.  \nLooking forward to crafting with you!!!
URL:https://www.thecraftynestdiy.com/event/public-night-at-the-crafty-nest-2/
LOCATION:The Crafty Nest (Whitinsville)\, 116 Church St\, Whitinsville\, MA\, 01588\, United States
CATEGORIES:Public Night
ATTACH;FMTTYPE=image/jpeg:https://www.thecraftynestdiy.com/wp-content/uploads/2023/01/eventbrite-flyer-March.jpg
END:VEVENT
END:VCALENDAR