BEGIN:VCALENDAR
VERSION:2.0
PRODID:-//The Crafty Nest DIY - ECPv5.8.1//NONSGML v1.0//EN
CALSCALE:GREGORIAN
METHOD:PUBLISH
X-WR-CALNAME:The Crafty Nest DIY
X-ORIGINAL-URL:https://www.thecraftynestdiy.com
X-WR-CALDESC:Events for The Crafty Nest DIY
BEGIN:VTIMEZONE
TZID:UTC
BEGIN:STANDARD
TZOFFSETFROM:+0000
TZOFFSETTO:+0000
TZNAME:UTC
DTSTART:20230101T000000
END:STANDARD
END:VTIMEZONE
BEGIN:VEVENT
DTSTART;TZID=UTC:20230323T180000
DTEND;TZID=UTC:20230323T203000
DTSTAMP:20260421T121647
CREATED:20230127T170358Z
LAST-MODIFIED:20230127T170358Z
UID:9703-1679594400-1679603400@www.thecraftynestdiy.com
SUMMARY:Public Night at Flying Dreams Brewery - Marlborough
DESCRIPTION:Join us for a different kind of craft night for a change. We will be hosting a public craft event at The Flying Dreams Brewery Co. in Marlborough. \nAt this event you can choose between one of the following crafts: (Please note – All ticket prices include 1 Drink Ticket) \n1) Circular Tray or Lazy Susan – $63.00 \nDress up your dinner table with this personalized piece. The lazy susan/tray measures 18” diameter. The custom tray/lazy susan is a rustic piece that is charming and functional\, both pieces can be stained/painted in your color of choice. \n2)Set of H.O.M.E. Wooden Blocks – $56.00 \nIncludes six 5.5” wooden blocks (H\, M\, E blocks plus additional double-sided seasonal blocks of your choice). This sends you home with 4 seasonal designs to change out throughout the year. If you’d to purchase extra blocks during checkout you may. Each block allows you two additional designs. \nExtra Blocks – $5.00/piece \n3) Competition Ring Toss – $58.00 \nThis table top ring toss game is sure to be a hit at your next gathering. Rules are simple\, both players try to catch their ring on their own hook. When you do\, move the peg towards your opponent. Once the peg is off the edge\, YOU WIN!  \n4) Wooden Bottle Opener – $58.00 \nThis is the perfect Father’s Day gift! You will have a choice between “Drink Local” (with state image); last name\, or “Dad Established (with year) \n5)Set of Three Tags – $53.00 Single Sided or $63.00 Double Sided \nThese rustic hanging tags can be single sided or double sided and are a perfect way to celebrate the seasons with your decor. Choices include: Luck\, Easter\, Beach\, Love\, or Grow themes. Tags are also available in a red\, white and blue\, patriotic theme. Large tag measures 16” x 8”; small tag measures 12 x 8”. \n\nDon’t forget that all of these items can be stained and painted according to your decor style and taste!  \nNot crafty? Not a problem! We will guide you step by step and provide ALL of the materials needed.  \nLooking forward to crafting with you!!!
URL:https://www.thecraftynestdiy.com/event/public-night-at-flying-dreams-brewery-marlborough/
LOCATION:The Crafty Nest (Whitinsville)\, 116 Church St\, Whitinsville\, MA\, 01588\, United States
CATEGORIES:Public Night
ATTACH;FMTTYPE=image/jpeg:https://www.thecraftynestdiy.com/wp-content/uploads/2023/01/Flying-dreams-flyer.jpg
END:VEVENT
END:VCALENDAR