BEGIN:VCALENDAR
VERSION:2.0
PRODID:-//The Crafty Nest DIY - ECPv5.8.1//NONSGML v1.0//EN
CALSCALE:GREGORIAN
METHOD:PUBLISH
X-WR-CALNAME:The Crafty Nest DIY
X-ORIGINAL-URL:https://www.thecraftynestdiy.com
X-WR-CALDESC:Events for The Crafty Nest DIY
BEGIN:VTIMEZONE
TZID:UTC
BEGIN:STANDARD
TZOFFSETFROM:+0000
TZOFFSETTO:+0000
TZNAME:UTC
DTSTART:20230101T000000
END:STANDARD
END:VTIMEZONE
BEGIN:VEVENT
DTSTART;TZID=UTC:20230428T183000
DTEND;TZID=UTC:20230428T210000
DTSTAMP:20260422T085003
CREATED:20230331T230246Z
LAST-MODIFIED:20230331T230732Z
UID:9793-1682706600-1682715600@www.thecraftynestdiy.com
SUMMARY:Public Craft Night at The Crafty Nest
DESCRIPTION:Join us for a fun night of crafting on Thursday April 28th \nAt this event you can choose from: \n1) Set of Wooden Mason Jar Holders $55.00 (Set of 3) $80 (Set of 5) . **Flowers included  \nTime to spruce up that Island or Dining Room Table with these beautiful flower boxes. You can easily update the flowers for each season! The decoration that can stay out all year long! \n2) Spring Sign / Carrots / Bunnies – $45.00 \nSpring is here!!!! Time to change up that decor with these unique decorations. \n3) Seasonal Wood Bead Wreath – $55.00 \nThis beautiful wreath is perfect for inside or out! Add to your decor by using this on your door or wall! It is constructed on a 16” frame.  \nOur split ball wreath is a gorgeous array of natural wooden split balls with beautiful seasonal flowers. (But you are also able to stain your beads if you’d like) \nDon’t forget that all of these items can be stained and painted according to your decor style and taste!  \nNot crafty? Not a problem! We will guide you step by step and provide ALL of the materials needed.  \nLooking forward to crafting with you!!!
URL:https://www.thecraftynestdiy.com/event/public-craft-night-at-the-crafty-nest-7/
LOCATION:The Crafty Nest (Whitinsville)\, 116 Church St\, Whitinsville\, MA\, 01588\, United States
CATEGORIES:Public Night
ATTACH;FMTTYPE=image/jpeg:https://www.thecraftynestdiy.com/wp-content/uploads/2023/03/eventbrite-flyer-April.jpg
END:VEVENT
END:VCALENDAR