BEGIN:VCALENDAR
VERSION:2.0
PRODID:-//The Crafty Nest DIY - ECPv5.8.1//NONSGML v1.0//EN
CALSCALE:GREGORIAN
METHOD:PUBLISH
X-WR-CALNAME:The Crafty Nest DIY
X-ORIGINAL-URL:https://www.thecraftynestdiy.com
X-WR-CALDESC:Events for The Crafty Nest DIY
BEGIN:VTIMEZONE
TZID:UTC
BEGIN:STANDARD
TZOFFSETFROM:+0000
TZOFFSETTO:+0000
TZNAME:UTC
DTSTART:20250101T000000
END:STANDARD
END:VTIMEZONE
BEGIN:VEVENT
DTSTART;TZID=UTC:20251026T080000
DTEND;TZID=UTC:20251026T220000
DTSTAMP:20260421T092354
CREATED:20250806T164423Z
LAST-MODIFIED:20250806T164423Z
UID:11450-1761465600-1761516000@www.thecraftynestdiy.com
SUMMARY:NOT AVAILABLE
DESCRIPTION:
URL:https://www.thecraftynestdiy.com/event/not-available-2/
END:VEVENT
END:VCALENDAR