BEGIN:VCALENDAR
VERSION:2.0
PRODID:-//The Crafty Nest DIY - ECPv5.8.1//NONSGML v1.0//EN
CALSCALE:GREGORIAN
METHOD:PUBLISH
X-WR-CALNAME:The Crafty Nest DIY
X-ORIGINAL-URL:https://www.thecraftynestdiy.com
X-WR-CALDESC:Events for The Crafty Nest DIY
BEGIN:VTIMEZONE
TZID:UTC
BEGIN:STANDARD
TZOFFSETFROM:+0000
TZOFFSETTO:+0000
TZNAME:UTC
DTSTART:20250101T000000
END:STANDARD
END:VTIMEZONE
BEGIN:VEVENT
DTSTART;TZID=UTC:20250420T080000
DTEND;TZID=UTC:20250420T170000
DTSTAMP:20260421T104210
CREATED:20250317T135716Z
LAST-MODIFIED:20250317T135742Z
UID:11290-1745136000-1745168400@www.thecraftynestdiy.com
SUMMARY:HAPPY EASTER!
DESCRIPTION:
URL:https://www.thecraftynestdiy.com/event/happy-easter/
LOCATION:The Crafty Nest (Whitinsville)\, 116 Church St\, Whitinsville\, MA\, 01588\, United States
ORGANIZER;CN="The%20Crafty%20Nest%20DIY":MAILTO:thecraftynestdiy@gmail.com
END:VEVENT
END:VCALENDAR