BEGIN:VCALENDAR
VERSION:2.0
PRODID:-//The Crafty Nest DIY - ECPv5.8.1//NONSGML v1.0//EN
CALSCALE:GREGORIAN
METHOD:PUBLISH
X-WR-CALNAME:The Crafty Nest DIY
X-ORIGINAL-URL:https://www.thecraftynestdiy.com
X-WR-CALDESC:Events for The Crafty Nest DIY
BEGIN:VTIMEZONE
TZID:UTC
BEGIN:STANDARD
TZOFFSETFROM:+0000
TZOFFSETTO:+0000
TZNAME:UTC
DTSTART:20230101T000000
END:STANDARD
END:VTIMEZONE
BEGIN:VEVENT
DTSTART;TZID=UTC:20231027T180000
DTEND;TZID=UTC:20231027T210000
DTSTAMP:20260421T104302
CREATED:20230829T020150Z
LAST-MODIFIED:20230829T020317Z
UID:9891-1698429600-1698440400@www.thecraftynestdiy.com
SUMMARY:Reserved
DESCRIPTION:Not available
URL:https://www.thecraftynestdiy.com/event/booked/
LOCATION:The Crafty Nest (Whitinsville)\, 116 Church St\, Whitinsville\, MA\, 01588\, United States
CATEGORIES:Private Party
END:VEVENT
END:VCALENDAR