BEGIN:VCALENDAR
VERSION:2.0
PRODID:-//The Crafty Nest DIY - ECPv5.8.1//NONSGML v1.0//EN
CALSCALE:GREGORIAN
METHOD:PUBLISH
X-WR-CALNAME:The Crafty Nest DIY
X-ORIGINAL-URL:https://www.thecraftynestdiy.com
X-WR-CALDESC:Events for The Crafty Nest DIY
BEGIN:VTIMEZONE
TZID:UTC
BEGIN:STANDARD
TZOFFSETFROM:+0000
TZOFFSETTO:+0000
TZNAME:UTC
DTSTART:20210101T000000
END:STANDARD
END:VTIMEZONE
BEGIN:VEVENT
DTSTART;TZID=UTC:20210726T183000
DTEND;TZID=UTC:20210726T213000
DTSTAMP:20260423T055104
CREATED:20210614T174745Z
LAST-MODIFIED:20210614T174745Z
UID:8313-1627324200-1627335000@www.thecraftynestdiy.com
SUMMARY:Available for Private Party at The Crafty Nest- Whitinsville
DESCRIPTION:
URL:https://www.thecraftynestdiy.com/event/available-for-private-party-at-the-crafty-nest-whitinsville-55/
CATEGORIES:Private Party
END:VEVENT
END:VCALENDAR