BEGIN:VCALENDAR
VERSION:2.0
PRODID:-//The Crafty Nest DIY - ECPv5.8.1//NONSGML v1.0//EN
CALSCALE:GREGORIAN
METHOD:PUBLISH
X-WR-CALNAME:The Crafty Nest DIY
X-ORIGINAL-URL:https://www.thecraftynestdiy.com
X-WR-CALDESC:Events for The Crafty Nest DIY
BEGIN:VTIMEZONE
TZID:UTC
BEGIN:STANDARD
TZOFFSETFROM:+0000
TZOFFSETTO:+0000
TZNAME:UTC
DTSTART:20250101T000000
END:STANDARD
END:VTIMEZONE
BEGIN:VEVENT
DTSTART;TZID=UTC:20250315T183000
DTEND;TZID=UTC:20250315T213000
DTSTAMP:20260424T112124
CREATED:20250103T162653Z
LAST-MODIFIED:20250225T171109Z
UID:10973-1742063400-1742074200@www.thecraftynestdiy.com
SUMMARY:UNAVAILABLE
DESCRIPTION:Book your party here \nParties
URL:https://www.thecraftynestdiy.com/event/available-for-private-party-510/
LOCATION:The Crafty Nest (Whitinsville)\, 116 Church St\, Whitinsville\, MA\, 01588\, United States
CATEGORIES:Private Party
ORGANIZER;CN="The%20Crafty%20Nest%20DIY":MAILTO:thecraftynestdiy@gmail.com
END:VEVENT
END:VCALENDAR