BEGIN:VCALENDAR
VERSION:2.0
PRODID:-//The Crafty Nest DIY - ECPv5.8.1//NONSGML v1.0//EN
CALSCALE:GREGORIAN
METHOD:PUBLISH
X-WR-CALNAME:The Crafty Nest DIY
X-ORIGINAL-URL:http://www.thecraftynestdiy.com
X-WR-CALDESC:Events for The Crafty Nest DIY
BEGIN:VTIMEZONE
TZID:UTC
BEGIN:STANDARD
TZOFFSETFROM:+0000
TZOFFSETTO:+0000
TZNAME:UTC
DTSTART:20250101T000000
END:STANDARD
END:VTIMEZONE
BEGIN:VEVENT
DTSTART;TZID=UTC:20250417T183000
DTEND;TZID=UTC:20250417T210000
DTSTAMP:20260420T091145
CREATED:20250317T220946Z
LAST-MODIFIED:20250317T220946Z
UID:11297-1744914600-1744923600@www.thecraftynestdiy.com
SUMMARY:Teacher Gift Public Night AND Completed Gift Option
DESCRIPTION:Looking to show your appreciation to your kid’s teachers this year? Whether it’s a gift for Teacher Appreciation Week or an End of the Year gift\, we’ve got you covered. Join us for a fun crafting night to make your own gifts or simply order a ready-to-go gift\, perfect for popping into a gift bag! \nYou can choose between the following crafts: \n1) Canvas Tote Bag – $20 (Completed $25) \nThis canvas tote is a thoughtful and practical gift for any teacher! Offers plenty of space to carry books\, supplies\, and personal items. What sets this tote apart are the charming teacher-themed designs that can be customized. Whether you choose a design that celebrates their dedication or adds a touch of humor\, this tote is sure to brighten any teacher’s day while offering them a stylish and functional accessory for their busy life! \n2) In this Classroom Sign – $25 (Completed $30) \nThis “In This Classroom” wood sign is a warm and welcoming addition to any classroom. Crafted from high-quality wood\, it features a beautifully designed\, timeless message that celebrates the positive environment in the classroom. With a mix of playful fonts and subtle accents\, it creates an inviting atmosphere for both students and teachers. Whether hung by the door or displayed on a wall\, this sign serves as a constant reminder of the values and warmth that make the classroom a special place to learn and grow. \n3)Teacher’s Name Ruler Sign – $25 (Completed $30) \nThis personalized wood sign features a teacher’s name with a charming ruler design\, making it a unique and thoughtful addition to any classroom. Crafted from high-quality wood\, the sign beautifully combines rustic style with a touch of educational flair. The ruler design subtly frames the teacher’s name\, adding a playful yet professional touch to the décor. It’s a perfect way to celebrate a teacher’s individuality and bring a personal\, welcoming feel to their classroom. Ideal for a special classroom accent\, this sign is sure to be cherished for years to come. \n4)Happy Birthday Chalkboard Sign $25 (Completed $30) \nThis “Happy Birthday” wood sign is the perfect teacher’s gift to celebrate classroom birthdays in style! Made from high-quality wood\, the sign features a vibrant and cheerful birthday design\, with a chalkboard spot where the teacher can write each student’s name on their special day. This customizable feature allows for easy updates throughout the year\, making it a fun and interactive way to celebrate birthdays in the classroom. A great addition to any teacher’s décor\, this sign brings a personal touch to birthday celebrations and adds a joyful\, festive atmosphere to the classroom! \n5)Round Welcome to Classroom Sign – $35 (Completed $40) \nThis “Welcome to the Classroom” round wood sign is a warm and inviting way to greet students at the start of the school year and every day to follow. The sign features a beautiful design with the teacher’s name prominently displayed\, adding a personal touch to the classroom. The circular shape and charming details make it a perfect decorative piece for the classroom door or wall. This sign not only adds a welcoming vibe but also creates an atmosphere where students feel valued and excited to learn. A thoughtful and stylish addition to any teacher’s classroom décor! \n6)Thanks for Helping Me Grow Faux Flower Box – $30(Completed $35) \nThis charming wood box with faux flowers is a genuine and thoughtful gift for any teacher. The front of the box features the heartfelt message\, “Thanks for Helping Me Grow\,” making it a perfect way to show appreciation for a teacher’s dedication and impact. On the back\, the teacher’s name is personalized\, adding a special touch that makes the gift unique. The faux flowers add a pop of color and beauty\, making this piece a lovely decorative accent for any classroom or home. It’s a meaningful way to celebrate a teacher’s influence and brighten their space with a lasting reminder of the impact they have on students. \n**Flower type and color may vary \n7) Apple String Art Name Sign – $25 (Completed $35) \nThis custom wood sign is a unique and creative gift for any teacher! Featuring the teacher’s\, along with an apple crafted from intricate string art\, this sign adds a personal and artistic touch to any classroom or home. The combination of wood and string art creates a warm\, rustic feel while celebrating the teacher’s role in shaping young minds. It’s a thoughtful and meaningful way to show appreciation for all that teachers do\, making it a perfect addition to their décor or as a special gift to brighten their day. \nDon’t forget that all of these items can be stained and painted according to your decor style and taste! Not crafty? Not a problem! \nWe will guide you step by step and provide ALL of the materials needed.Looking forward to crafting with you!!! \nBYOB!! And feel free to bring lite bites!
URL:http://www.thecraftynestdiy.com/event/teacher-gift-public-night-and-completed-gift-option/
LOCATION:The Crafty Nest (Whitinsville)\, 116 Church St\, Whitinsville\, MA\, 01588\, United States
CATEGORIES:Public Night
ATTACH;FMTTYPE=image/jpeg:http://www.thecraftynestdiy.com/wp-content/uploads/2025/03/teacher-gifts-flyer.jpg
END:VEVENT
END:VCALENDAR