BEGIN:VCALENDAR
VERSION:2.0
PRODID:-//The Crafty Nest DIY - ECPv5.8.1//NONSGML v1.0//EN
CALSCALE:GREGORIAN
METHOD:PUBLISH
X-WR-CALNAME:The Crafty Nest DIY
X-ORIGINAL-URL:http://www.thecraftynestdiy.com
X-WR-CALDESC:Events for The Crafty Nest DIY
BEGIN:VTIMEZONE
TZID:UTC
BEGIN:STANDARD
TZOFFSETFROM:+0000
TZOFFSETTO:+0000
TZNAME:UTC
DTSTART:20210101T000000
END:STANDARD
END:VTIMEZONE
BEGIN:VEVENT
DTSTART;TZID=UTC:20210911T183000
DTEND;TZID=UTC:20210911T213000
DTSTAMP:20260423T102330
CREATED:20210815T153523Z
LAST-MODIFIED:20210815T153523Z
UID:8475-1631385000-1631395800@www.thecraftynestdiy.com
SUMMARY:RESERVED for Private Party at The Crafty Nest - Whitinsville
DESCRIPTION:
URL:http://www.thecraftynestdiy.com/event/reserved-for-private-party-at-the-crafty-nest-whitinsville/
CATEGORIES:Private Party
END:VEVENT
END:VCALENDAR