BEGIN:VCALENDAR
VERSION:2.0
PRODID:-//The Crafty Nest DIY - ECPv5.8.1//NONSGML v1.0//EN
CALSCALE:GREGORIAN
METHOD:PUBLISH
X-WR-CALNAME:The Crafty Nest DIY
X-ORIGINAL-URL:http://www.thecraftynestdiy.com
X-WR-CALDESC:Events for The Crafty Nest DIY
BEGIN:VTIMEZONE
TZID:UTC
BEGIN:STANDARD
TZOFFSETFROM:+0000
TZOFFSETTO:+0000
TZNAME:UTC
DTSTART:20230101T000000
END:STANDARD
END:VTIMEZONE
BEGIN:VEVENT
DTSTART;TZID=UTC:20230617T100000
DTEND;TZID=UTC:20230617T140000
DTSTAMP:20260419T150726
CREATED:20230609T033908Z
LAST-MODIFIED:20230609T034706Z
UID:9818-1686996000-1687010400@www.thecraftynestdiy.com
SUMMARY:Church Street Sidewalk Sale
DESCRIPTION:Mark those calendars!\nWe are excited to bring the Church St. Sidewalk sale back “once again”.\nEvent date : June 17th\nTime: 10-2 (Church St will be closed from Prospect St to Unibank between 9-3)\n\nThis is a free event! We encourage you to come as a family. There will be lots of fun to be had by all!! Live Music\, shopping\, food\, free kid’s entertainment\, martial arts demos\, Inflatable Obstacle Courses and so much more!\nNew this year – Dunk Tank!! Come down and take the opportunity to Dunk some of our town favorites!!!\n\nStop by The Crafty Nest and make a personalized Father’s Day Gift from the kids. First Come first serve. $35.00 a piece. The crafts are all ready for you to just add those adorable hand or footprints and you’ll be on your way in 10-15 mins.
URL:http://www.thecraftynestdiy.com/event/church-street-sidewalk-sale/
LOCATION:The Crafty Nest (Whitinsville)\, 116 Church St\, Whitinsville\, MA\, 01588\, United States
END:VEVENT
END:VCALENDAR