BEGIN:VCALENDAR
VERSION:2.0
PRODID:-//The Crafty Nest DIY - ECPv5.8.1//NONSGML v1.0//EN
CALSCALE:GREGORIAN
METHOD:PUBLISH
X-WR-CALNAME:The Crafty Nest DIY
X-ORIGINAL-URL:http://www.thecraftynestdiy.com
X-WR-CALDESC:Events for The Crafty Nest DIY
BEGIN:VTIMEZONE
TZID:UTC
BEGIN:STANDARD
TZOFFSETFROM:+0000
TZOFFSETTO:+0000
TZNAME:UTC
DTSTART:20210101T000000
END:STANDARD
END:VTIMEZONE
BEGIN:VEVENT
DTSTART;TZID=UTC:20211012T183000
DTEND;TZID=UTC:20211012T213000
DTSTAMP:20260426T013418
CREATED:20210815T180951Z
LAST-MODIFIED:20210930T193908Z
UID:8546-1634063400-1634074200@www.thecraftynestdiy.com
SUMMARY:Public Craft Night at The Crafty Nest - Whitinsville
DESCRIPTION:
URL:http://www.thecraftynestdiy.com/event/available-for-private-party-at-the-crafty-nest-whitinsville-132/
CATEGORIES:Public Night
END:VEVENT
END:VCALENDAR