BEGIN:VCALENDAR
VERSION:2.0
PRODID:-//The Crafty Nest DIY - ECPv5.8.1//NONSGML v1.0//EN
CALSCALE:GREGORIAN
METHOD:PUBLISH
X-WR-CALNAME:The Crafty Nest DIY
X-ORIGINAL-URL:http://www.thecraftynestdiy.com
X-WR-CALDESC:Events for The Crafty Nest DIY
BEGIN:VTIMEZONE
TZID:UTC
BEGIN:STANDARD
TZOFFSETFROM:+0000
TZOFFSETTO:+0000
TZNAME:UTC
DTSTART:20250101T000000
END:STANDARD
END:VTIMEZONE
BEGIN:VEVENT
DTSTART;TZID=UTC:20250403T183000
DTEND;TZID=UTC:20250403T210000
DTSTAMP:20260420T091356
CREATED:20250317T134747Z
LAST-MODIFIED:20250317T134747Z
UID:11281-1743705000-1743714000@www.thecraftynestdiy.com
SUMMARY:Public Night at The Crafty Nest
DESCRIPTION:Join us at The Crafty Nest for a fantastic night filled with creativity\, crafting\, and fun! Whether you’re looking to meet new friends\, catch up with old ones\, or just enjoy a few laughs\, there’s something for everyone. Come unwind\, get inspired\, and make lasting memories—and leave with a pinterest worthy piece! \nAt this event you can choose between one of the following crafts: \n1) Sports Round Wood Sign – $55 \nWelcome your guests with a touch of TEAM pride! This sports-themed wood wreath is perfect for any sports-loving family.\n*Choose from various sports options at checkout as well as holes for hanging. \n***If you do not see the sport you are looking for please email me directly. I am happy to work on a new design for you. thecraftynestdiy@gmail.com \n2) Spring Wood Bead Wreath – $58 \nThis stunning wreath is perfect for both indoor and outdoor use! Enhance your décor by hanging it on your door or wall. Built on a 16” frame\, our split ball wreath features a beautiful combination of natural wooden split balls and vibrant seasonal flowers. \n3) Tulip Grapevine Wreath – $58 \nThis 18” Grapevine Spring Tulip Wreath is the ideal addition to your spring décor. It features vibrant tulips (with different color options available)\, and and a variety of ribbon options to complement your style. \n4) Rabbit Sign and Faux Carrots – $45 \nHow fun is this playful wooden rabbit sign\, featuring 3D glasses and faux carrots crafted from wooden beads? It’s a whimsical and unique touch that will bring joy and personality to your spring décor. Perfect for adding a bit of fun and creativity to your home this season! \nDon’t forget that all of these items can be stained and painted according to your decor style and taste! \nNot crafty? Not a problem! We will guide you step by step and provide ALL of the materials needed. \nLooking forward to crafting with you!!! BYOB!! And feel free to bring lite bites!
URL:http://www.thecraftynestdiy.com/event/public-night-at-the-crafty-nest-24/
LOCATION:The Crafty Nest (Whitinsville)\, 116 Church St\, Whitinsville\, MA\, 01588\, United States
CATEGORIES:Public Night
ATTACH;FMTTYPE=image/jpeg:http://www.thecraftynestdiy.com/wp-content/uploads/2025/03/April-Flyer.jpg
END:VEVENT
END:VCALENDAR